BEGIN:VCALENDAR
VERSION:2.0
PRODID:-//eventon.com NONSGML v1.0//EN
CALSCALE:GREGORIAN
METHOD:PUBLISH
BEGIN:VEVENT
UID:69ebf7b7ef089
DTSTAMP:20260424T230735Z
DTSTART:20220702T193000Z
DTEND:20220702T235000Z
LOCATION:Stadtmission Oppenheim Mainzer Str. 7 \,  55276 Oppenheim
SUMMARY:RICCITELLIS live | Oppenheim
DESCRIPTION:RICCITELLIS live | Oppenheim\nhttps://www.riccitellis.de/events
 /2020-02-14/
URL:https://www.riccitellis.de/events/2020-02-14/
END:VEVENT
END:VCALENDAR